BEGIN:VCALENDAR
VERSION:2.0
PRODID:-//Sabre//Sabre VObject 4.5.8//EN
CALSCALE:GREGORIAN
BEGIN:VEVENT
UID:sabre-vobject-9151b6f9-28c5-4b94-9d88-2a1a2c0c08e0
DTSTAMP:20260422T083410Z
SUMMARY:"TauschRausch" - Die Kleider-Tauschbörse
DESCRIPTION:https://regioningolstadt.com/tauschrausch-die-kleider-tauschboe
 rse_id34349
DTSTART;TZID=Europe/Berlin:20250510T153000
DTEND;TZID=Europe/Berlin:20250510T183000
LOCATION:Bürgerhaus Neuburger Kasten\, II. OG\, Seminarraum 24\, Fechtgass
 e 6\, 85049 Ingolstadt
END:VEVENT
END:VCALENDAR
