BEGIN:VCALENDAR
VERSION:2.0
PRODID:-//Sabre//Sabre VObject 4.5.8//EN
CALSCALE:GREGORIAN
BEGIN:VEVENT
UID:sabre-vobject-5e221c60-2670-4a37-b0a2-2f5164f1b2b5
DTSTAMP:20260423T012657Z
SUMMARY:Schanzer Puppenspieler: "Findet Darko!"
DESCRIPTION:https://regioningolstadt.com/schanzer-puppenspieler-findet-dark
 o_id34338
DTSTART;TZID=Europe/Berlin:20241215T160000
DTEND;TZID=Europe/Berlin:20241215T170000
LOCATION:Bürgerhaus Neuburger Kasten\, Fechtgasse 6\, 85049 Ingolstadt
END:VEVENT
END:VCALENDAR
