BEGIN:VCALENDAR
VERSION:2.0
PRODID:-//Sabre//Sabre VObject 4.5.8//EN
CALSCALE:GREGORIAN
BEGIN:VEVENT
UID:sabre-vobject-4e0f455c-15fc-4df0-abd9-5cd3fea88f1c
DTSTAMP:20260422T104311Z
SUMMARY:Relevanz und Nutzen von Schutzrechten für die Transformation
DESCRIPTION:https://regioningolstadt.com/relevanz-und-nutzen-von-schutzrech
 ten-fuer-die-transformation_id34304
DTSTART;TZID=Europe/Berlin:20241105T130000
DTEND;TZID=Europe/Berlin:20241105T143000
LOCATION:Online-Veranstaltung\, \,  
END:VEVENT
END:VCALENDAR
