BEGIN:VCALENDAR
VERSION:2.0
PRODID:-//Sabre//Sabre VObject 4.5.8//EN
CALSCALE:GREGORIAN
BEGIN:VEVENT
UID:sabre-vobject-fd969e6c-9da4-46a1-b529-6ff01839069b
DTSTAMP:20260420T234102Z
SUMMARY:Sommer Klassik Open Air 2024
DESCRIPTION:https://regioningolstadt.com/sommer-klassik-open-air-2024_id342
 98
DTSTART;TZID=Europe/Berlin:20240907T200000
DTEND;TZID=Europe/Berlin:20240907T230000
LOCATION:Schloss Sandizell\, 86529 Schrobenhausen\, Schloßstraße 25\, 865
 29 Schrobenhausen
END:VEVENT
END:VCALENDAR
