BEGIN:VCALENDAR
VERSION:2.0
PRODID:-//Sabre//Sabre VObject 4.5.8//EN
CALSCALE:GREGORIAN
BEGIN:VEVENT
UID:sabre-vobject-a0bdebcf-2bd5-4014-8c59-bc3675e67bac
DTSTAMP:20260421T153246Z
SUMMARY:Unsere Donau – Die Natur- und Kulturachse Europas
DESCRIPTION:https://regioningolstadt.com/unsere-donau-die-natur-und-kultura
 chse-europas_id34281
DTSTART;TZID=Europe/Berlin:20241107T183000
DURATION:PT30M
LOCATION:VHS Ingolstadt\, Hallstr. 5\, 85049 Ingolstadt
END:VEVENT
END:VCALENDAR
