BEGIN:VCALENDAR
VERSION:2.0
PRODID:-//Sabre//Sabre VObject 4.5.8//EN
CALSCALE:GREGORIAN
BEGIN:VEVENT
UID:sabre-vobject-dbebe804-adea-4c67-acc2-45a09197aae6
DTSTAMP:20260422T043927Z
SUMMARY:Zeitzeugenlesung : Ich sang für die SS - Abba Naor
DESCRIPTION:https://regioningolstadt.com/zeitzeugenlesung-ich-sang-fuer-die
 -ss-abba-naor_id34200
DTSTART;TZID=Europe/Berlin:20241105T193000
DTEND;TZID=Europe/Berlin:20241105T220000
LOCATION:Stadtbücherei im Herzogskasten\, Hallstraße 2 - 4\, 85049 Ingols
 tadt
END:VEVENT
END:VCALENDAR
