BEGIN:VCALENDAR
VERSION:2.0
PRODID:-//Sabre//Sabre VObject 4.5.8//EN
CALSCALE:GREGORIAN
BEGIN:VEVENT
UID:sabre-vobject-eb8e860d-f9f4-4e7e-98ef-ebb870790e96
DTSTAMP:20260422T121338Z
SUMMARY:Sprechstundentag für Websiteanalyse - Schwerpunkt Usability
DESCRIPTION:https://regioningolstadt.com/sprechstundentag-fuer-websiteanaly
 se-schwerpunkt-usability_id34199
DTSTART;TZID=Europe/Berlin:20241105T090000
DTEND;TZID=Europe/Berlin:20241105T160000
LOCATION:Online-Veranstaltung\, \,  
END:VEVENT
END:VCALENDAR
