BEGIN:VCALENDAR
VERSION:2.0
PRODID:-//Sabre//Sabre VObject 4.5.8//EN
CALSCALE:GREGORIAN
BEGIN:VEVENT
UID:sabre-vobject-0159cd7d-4a2d-452f-bec5-21cdc644676d
DTSTAMP:20260426T035726Z
SUMMARY:Sprechstundentag für Websiteanalyse - Schwerpunkt Usability
DESCRIPTION:https://regioningolstadt.com/sprechstundentag-fuer-websiteanaly
 se-schwerpunkt-usability_id34196
DTSTART;TZID=Europe/Berlin:20240801T090000
DTEND;TZID=Europe/Berlin:20240801T160000
LOCATION:Online-Veranstaltung\, \,  
END:VEVENT
END:VCALENDAR
