BEGIN:VCALENDAR
VERSION:2.0
PRODID:-//Sabre//Sabre VObject 4.5.8//EN
CALSCALE:GREGORIAN
BEGIN:VEVENT
UID:sabre-vobject-dc45b31d-1036-4b12-9e64-f8f15f52d758
DTSTAMP:20260424T135041Z
SUMMARY:Das Kloster kennenlernen  zwischen Frühstücksbuffet und Mittagsme
 nü
DESCRIPTION:https://regioningolstadt.com/das-kloster-kennenlernen-zwischen-
 fruehstuecksbuffet-und-mittagsmenue_id34187
DTSTART;TZID=Europe/Berlin:20241229T100000
DTEND;TZID=Europe/Berlin:20241229T150000
LOCATION:Kloster Plankstetten\, Klosterplatz 1\, 92334 Berching
END:VEVENT
END:VCALENDAR
