BEGIN:VCALENDAR
VERSION:2.0
PRODID:-//Sabre//Sabre VObject 4.5.8//EN
CALSCALE:GREGORIAN
BEGIN:VEVENT
UID:sabre-vobject-680bbff4-7043-484b-8339-51589e20ed9a
DTSTAMP:20260425T154037Z
SUMMARY:SONNTAGS?KUNST!  „VON DER FASER ZUM KUNSTWERK: NASSFILZEN FÜR EI
 NSTEIGER“ – WORKSHOP MIT KATHRIN JESSEN
DESCRIPTION:https://regioningolstadt.com/sonntags-kunst-von-der-faser-zum-k
 unstwerk-nassfilzen-fuer-einsteiger-workshop-mit-kathrin-jessen_id34166
DTSTART;TZID=Europe/Berlin:20240728T150000
DTEND;TZID=Europe/Berlin:20240728T170000
LOCATION:Museum für Konkrete Kunst\, Tränktorstraße 6 - 8\, 85049 Ingols
 tadt
END:VEVENT
END:VCALENDAR
