BEGIN:VCALENDAR
VERSION:2.0
PRODID:-//Sabre//Sabre VObject 4.5.8//EN
CALSCALE:GREGORIAN
BEGIN:VEVENT
UID:sabre-vobject-3455c08c-7f8b-4770-9d2c-dc018be8ad36
DTSTAMP:20260425T122443Z
SUMMARY:SONNTAGS? KUNST!  KURZFÜHRUNG FÜR FAMILIEN
DESCRIPTION:https://regioningolstadt.com/sonntags-kunst-kurzfuehrung-fuer-f
 amilien_id34165
DTSTART;TZID=Europe/Berlin:20240728T143000
DTEND;TZID=Europe/Berlin:20240728T150000
LOCATION:Museum für Konkrete Kunst\, Tränktorstraße 6 - 8\, 85049 Ingols
 tadt
END:VEVENT
END:VCALENDAR
