BEGIN:VCALENDAR
VERSION:2.0
PRODID:-//Sabre//Sabre VObject 4.5.8//EN
CALSCALE:GREGORIAN
BEGIN:VEVENT
UID:sabre-vobject-0f693840-c2eb-4a73-9631-1a885992ed76
DTSTAMP:20260424T135152Z
SUMMARY:KINDERATELIER IM MKK
DESCRIPTION:https://regioningolstadt.com/kinderatelier-im-mkk_id34164
DTSTART;TZID=Europe/Berlin:20240727T100000
DTEND;TZID=Europe/Berlin:20240727T120000
LOCATION:Museum für Konkrete Kunst\, Tränktorstraße 6 - 8\, 85049 Ingols
 tadt
END:VEVENT
END:VCALENDAR
