BEGIN:VCALENDAR
VERSION:2.0
PRODID:-//Sabre//Sabre VObject 4.5.8//EN
CALSCALE:GREGORIAN
BEGIN:VEVENT
UID:sabre-vobject-75541b23-f942-4e8e-af96-b05d9309ba8f
DTSTAMP:20260421T130452Z
SUMMARY:NACHHOLTERMIN Götterstatuen des Altertums in verschiedenen Hochkul
 turen als Weltkulturerbe
DESCRIPTION:https://regioningolstadt.com/nachholtermin-goetterstatuen-des-a
 ltertums-in-verschiedenen-hochkulturen-als-weltkulturerbe_id34134
DTSTART;TZID=Europe/Berlin:20241211T191500
DURATION:PT30M
LOCATION:VHS Ingolstadt\, Hallstr. 5\, 85049 Ingolstadt
END:VEVENT
END:VCALENDAR
