BEGIN:VCALENDAR
VERSION:2.0
PRODID:-//Sabre//Sabre VObject 4.5.8//EN
CALSCALE:GREGORIAN
BEGIN:VEVENT
UID:sabre-vobject-7ac783f8-a932-45c8-b9fe-3d2d5e9ddb3f
DTSTAMP:20260420T222259Z
SUMMARY:Kantabrische Filmreihe: Kurzfilmprogramm 2023 - Selección de corto
 metrajes de Cantabria 2023
DESCRIPTION:https://regioningolstadt.com/kantabrische-filmreihe-kurzfilmpro
 gramm-2023-seleccion-de-cortometrajes-de-cantabria-2023_id34127
DTSTART;TZID=Europe/Berlin:20250117T190000
DURATION:PT30M
LOCATION:VHS Ingolstadt\, Hallstr. 5\, 85049 Ingolstadt
END:VEVENT
END:VCALENDAR
