BEGIN:VCALENDAR
VERSION:2.0
PRODID:-//Sabre//Sabre VObject 4.5.8//EN
CALSCALE:GREGORIAN
BEGIN:VEVENT
UID:sabre-vobject-2276a01c-a42f-4521-9a99-80eb56ba67e8
DTSTAMP:20260422T235443Z
SUMMARY:Radtour ins Mittelalterliche Mittelfranken
DESCRIPTION:https://regioningolstadt.com/radtour-ins-mittelalterliche-mitte
 lfranken_id34118
DTSTART;TZID=Europe/Berlin:20240721T091500
DTEND;TZID=Europe/Berlin:20240721T183000
LOCATION:Hauptbahnhof Ingolstadt\, Bahnhofstraße 8\, 85051 Ingolstadt
END:VEVENT
END:VCALENDAR
