BEGIN:VCALENDAR
VERSION:2.0
PRODID:-//Sabre//Sabre VObject 4.5.8//EN
CALSCALE:GREGORIAN
BEGIN:VEVENT
UID:sabre-vobject-818330ef-8fc4-47ac-80a8-206ceaa900ef
DTSTAMP:20260423T012616Z
SUMMARY:Radtour - Schmankerl des Neuburger Nordens
DESCRIPTION:https://regioningolstadt.com/radtour-schmankerl-des-neuburger-n
 ordens_id34112
DTSTART;TZID=Europe/Berlin:20240721T100000
DTEND;TZID=Europe/Berlin:20240721T170000
LOCATION:Bürgerhaus Ostend\, Berliner Straße 164\, 86633 Neuburg a.d. Don
 au
END:VEVENT
END:VCALENDAR
