BEGIN:VCALENDAR
VERSION:2.0
PRODID:-//Sabre//Sabre VObject 4.5.8//EN
CALSCALE:GREGORIAN
BEGIN:VEVENT
UID:sabre-vobject-b653bc85-75e2-4302-a5b9-7700657cbf02
DTSTAMP:20260422T203932Z
SUMMARY:Biergarten-Feierabend-Radtour
DESCRIPTION:https://regioningolstadt.com/biergarten-feierabend-radtour_id34
 111
DTSTART;TZID=Europe/Berlin:20240720T160000
DTEND;TZID=Europe/Berlin:20240720T220000
LOCATION:Schlösslwiese\, Zur Ringmeierbucht 4\, 86633 Neuburg a.d. Donau
END:VEVENT
END:VCALENDAR
