BEGIN:VCALENDAR
VERSION:2.0
PRODID:-//Sabre//Sabre VObject 4.5.8//EN
CALSCALE:GREGORIAN
BEGIN:VEVENT
UID:sabre-vobject-c8ff5683-67cd-4f97-8551-b0766a412730
DTSTAMP:20260421T202222Z
SUMMARY:Zukunft für das Donaumoos
DESCRIPTION:https://regioningolstadt.com/zukunft-fuer-das-donaumoos_id34014
DTSTART;TZID=Europe/Berlin:20240708T073000
DTEND;TZID=Europe/Berlin:20240906T123000
LOCATION:Landratsamt Neuburg\, Platz der Deutschen Einheit 1\, 86633 Neubur
 g
END:VEVENT
END:VCALENDAR
