BEGIN:VCALENDAR
VERSION:2.0
PRODID:-//Sabre//Sabre VObject 4.5.8//EN
CALSCALE:GREGORIAN
BEGIN:VEVENT
UID:sabre-vobject-aafac293-517a-4d3e-96da-096b70fa74f8
DTSTAMP:20260421T091527Z
SUMMARY:Viva la libertà - Es lebe die Freiheit
DESCRIPTION:https://regioningolstadt.com/viva-la-liberta-es-lebe-die-freihe
 it_id34008
DTSTART;TZID=Europe/Berlin:20250116T190000
DURATION:PT30M
LOCATION:VHS Ingolstadt\, Hallstr. 5\, 85049 Ingolstadt
END:VEVENT
END:VCALENDAR
