BEGIN:VCALENDAR
VERSION:2.0
PRODID:-//Sabre//Sabre VObject 4.5.8//EN
CALSCALE:GREGORIAN
BEGIN:VEVENT
UID:sabre-vobject-caea0fe2-215d-465f-a280-b05d022deee5
DTSTAMP:20260422T011029Z
SUMMARY:Wer wir gewesen sein werden - Filmvorführung mit Besprechung
DESCRIPTION:https://regioningolstadt.com/wer-wir-gewesen-sein-werden-filmvo
 rfuehrung-mit-besprechung_id34007
DTSTART;TZID=Europe/Berlin:20250115T190000
DURATION:PT30M
LOCATION:VHS Ingolstadt\, Hallstr. 5\, 85049 Ingolstadt
END:VEVENT
END:VCALENDAR
