BEGIN:VCALENDAR
VERSION:2.0
PRODID:-//Sabre//Sabre VObject 4.5.8//EN
CALSCALE:GREGORIAN
BEGIN:VEVENT
UID:sabre-vobject-03e9cbff-173d-48b2-a72c-28846ca7a9db
DTSTAMP:20260421T134208Z
SUMMARY:Il primo Natale - Once upon a Time in Bethlehem
DESCRIPTION:https://regioningolstadt.com/il-primo-natale-once-upon-a-time-i
 n-bethlehem_id34004
DTSTART;TZID=Europe/Berlin:20241107T190000
DURATION:PT30M
LOCATION:VHS Ingolstadt\, Hallstr. 5\, 85049 Ingolstadt
END:VEVENT
END:VCALENDAR
