BEGIN:VCALENDAR
VERSION:2.0
PRODID:-//Sabre//Sabre VObject 4.5.8//EN
CALSCALE:GREGORIAN
BEGIN:VEVENT
UID:sabre-vobject-f16f4424-7f16-4980-8105-14d4622901a9
DTSTAMP:20260420T004623Z
SUMMARY:After Work Sunset Walderlebnis
DESCRIPTION:https://regioningolstadt.com/after-work-sunset-walderlebnis_id3
 3997
DTSTART;TZID=Europe/Berlin:20240718T190000
DTEND;TZID=Europe/Berlin:20240718T213000
LOCATION:Schafirrsee\, Eichenwaldstr. 73\, 85049 Ingolstadt-Gerolfing
END:VEVENT
END:VCALENDAR
