BEGIN:VCALENDAR
VERSION:2.0
PRODID:-//Sabre//Sabre VObject 4.5.8//EN
CALSCALE:GREGORIAN
BEGIN:VEVENT
UID:sabre-vobject-c05798a7-1a2f-42a3-ac66-16f8a198e08b
DTSTAMP:20260422T172753Z
SUMMARY:American-Football-Spiel: Ingolstadt Dukes vs. Würzburg Panthers
DESCRIPTION:https://regioningolstadt.com/american-football-spiel-ingolstadt
 -dukes-vs-wuerzburg-panthers_id33976
DTSTART;TZID=Europe/Berlin:20240720T150000
DTEND;TZID=Europe/Berlin:20240720T183000
LOCATION:Bezirkssportanlage TV 1861 Ingolstadt\, Richard-Wagner-Straße 65\
 , 85057 Ingolstadt
END:VEVENT
END:VCALENDAR
