BEGIN:VCALENDAR
VERSION:2.0
PRODID:-//Sabre//Sabre VObject 4.5.8//EN
CALSCALE:GREGORIAN
BEGIN:VEVENT
UID:sabre-vobject-688380e3-337f-485e-8572-9ea10e4ef6ea
DTSTAMP:20260426T005331Z
SUMMARY:Generative KI – Urheberrechtliche & arbeitsrechtliche Aspekte
DESCRIPTION:https://regioningolstadt.com/generative-ki-urheberrechtliche-ar
 beitsrechtliche-aspekte_id33965
DTSTART;TZID=Europe/Berlin:20240731T100000
DTEND;TZID=Europe/Berlin:20240731T110000
LOCATION:Online-Veranstaltung\, \,  
END:VEVENT
END:VCALENDAR
