BEGIN:VCALENDAR
VERSION:2.0
PRODID:-//Sabre//Sabre VObject 4.5.8//EN
CALSCALE:GREGORIAN
BEGIN:VEVENT
UID:sabre-vobject-08303f26-cc0a-4b5d-8251-46fdb5475191
DTSTAMP:20260425T232304Z
SUMMARY:Warum Ökobilanzierung? Ein Wegweiser in Richtung Kostenersparnis u
 nd Klimaneutralität
DESCRIPTION:https://regioningolstadt.com/warum-oekobilanzierung-ein-wegweis
 er-in-richtung-kostenersparnis-und-klimaneutralitaet_id33964
DTSTART;TZID=Europe/Berlin:20240730T150000
DTEND;TZID=Europe/Berlin:20240730T160000
LOCATION:Online-Veranstaltung\, \,  
END:VEVENT
END:VCALENDAR
