BEGIN:VCALENDAR
VERSION:2.0
PRODID:-//Sabre//Sabre VObject 4.5.8//EN
CALSCALE:GREGORIAN
BEGIN:VEVENT
UID:sabre-vobject-f721de13-ea04-4e59-8200-44c21820253e
DTSTAMP:20260424T155826Z
SUMMARY:Der WestPark Kindermitmachzirkus
DESCRIPTION:https://regioningolstadt.com/der-westpark-kindermitmachzirkus_i
 d33963
DTSTART;TZID=Europe/Berlin:20240727T110000
DTEND;TZID=Europe/Berlin:20240727T190000
LOCATION:Westpark Plaza\, Am Westpark 6\, 85057 Ingolstadt
END:VEVENT
END:VCALENDAR
