BEGIN:VCALENDAR
VERSION:2.0
PRODID:-//Sabre//Sabre VObject 4.5.8//EN
CALSCALE:GREGORIAN
BEGIN:VEVENT
UID:sabre-vobject-5834ccce-fde7-42b0-8150-025aaeb17736
DTSTAMP:20260424T042535Z
SUMMARY:KI im Marketing – Content Creation per Algorithmus
DESCRIPTION:https://regioningolstadt.com/ki-im-marketing-content-creation-p
 er-algorithmus_id33962
DTSTART;TZID=Europe/Berlin:20240725T100000
DTEND;TZID=Europe/Berlin:20240725T113000
LOCATION:Online-Veranstaltung\, \,  
END:VEVENT
END:VCALENDAR
