BEGIN:VCALENDAR
VERSION:2.0
PRODID:-//Sabre//Sabre VObject 4.5.8//EN
CALSCALE:GREGORIAN
BEGIN:VEVENT
UID:sabre-vobject-f27a5ce5-622a-42ed-8fca-f159c96d578e
DTSTAMP:20260423T175200Z
SUMMARY:Impuls zur Anwendung von Künstlicher Intelligenz in Unternehmen - 
 "KI als Chance"
DESCRIPTION:https://regioningolstadt.com/impuls-zur-anwendung-von-kuenstlic
 her-intelligenz-in-unternehmen-ki-als-chance_id33961
DTSTART;TZID=Europe/Berlin:20240723T160000
DTEND;TZID=Europe/Berlin:20240723T170000
LOCATION:Online-Veranstaltung\, \,  
END:VEVENT
END:VCALENDAR
