BEGIN:VCALENDAR
VERSION:2.0
PRODID:-//Sabre//Sabre VObject 4.5.8//EN
CALSCALE:GREGORIAN
BEGIN:VEVENT
UID:sabre-vobject-3d3c6252-f5de-4cbc-8cb2-c4d6c28e7f19
DTSTAMP:20260425T183243Z
SUMMARY:DIE RICHTLINIE ZUR FÖRDERUNG VON MASSNAHMEN FÜR DIE KULTUR- UND K
 REATIVWIRTSCHAFT IM FOKUS
DESCRIPTION:https://regioningolstadt.com/die-richtlinie-zur-foerderung-von-
 massnahmen-fuer-die-kultur-und-kreativwirtschaft-im-fokus_id33940
DTSTART;TZID=Europe/Berlin:20240729T120000
DTEND;TZID=Europe/Berlin:20240729T130000
LOCATION:Online\, \,  
END:VEVENT
END:VCALENDAR
