BEGIN:VCALENDAR
VERSION:2.0
PRODID:-//Sabre//Sabre VObject 4.5.8//EN
CALSCALE:GREGORIAN
BEGIN:VEVENT
UID:sabre-vobject-9d3ec27b-4c76-4b2d-a5d0-f916e1d50e8c
DTSTAMP:20260424T171709Z
SUMMARY:Silvesterkonzert "Musik aus Himmel oder Hölle?" mit Ensemble Baroc
 kin'
DESCRIPTION:https://regioningolstadt.com/silvesterkonzert-musik-aus-himmel-
 oder-hoelle-mit-ensemble-barockin_id33930
DTSTART;TZID=Europe/Berlin:20241229T190000
DURATION:PT30M
LOCATION:Barocksaal im Stadtmuseum Ingolstadt\, Auf der Schanz 45\, 85049 I
 ngolstadt
END:VEVENT
END:VCALENDAR
