BEGIN:VCALENDAR
VERSION:2.0
PRODID:-//Sabre//Sabre VObject 4.5.8//EN
CALSCALE:GREGORIAN
BEGIN:VEVENT
UID:sabre-vobject-95633a64-3f0d-48a6-8483-c3fd19722a72
DTSTAMP:20260424T203915Z
SUMMARY:Radtour zur Birkenheide
DESCRIPTION:https://regioningolstadt.com/radtour-zur-birkenheide_id33917
DTSTART;TZID=Europe/Berlin:20240727T130000
DTEND;TZID=Europe/Berlin:20240727T180000
LOCATION:RADHAUS Ingolstadt\, Bei der Arena 7\, 85053 Ingolstadt
END:VEVENT
END:VCALENDAR
