BEGIN:VCALENDAR
VERSION:2.0
PRODID:-//Sabre//Sabre VObject 4.5.8//EN
CALSCALE:GREGORIAN
BEGIN:VEVENT
UID:sabre-vobject-59ebb929-b048-47eb-b7b0-233ccbce4ac2
DTSTAMP:20260423T223718Z
SUMMARY:Radtour auf dem Anlautertal Radweg
DESCRIPTION:https://regioningolstadt.com/radtour-auf-dem-anlautertal-radweg
 _id33916
DTSTART;TZID=Europe/Berlin:20240724T083000
DTEND;TZID=Europe/Berlin:20240724T190000
LOCATION:Hauptbahnhof Ingolstadt\, Bahnhofstraße 8\, 85051 Ingolstadt
END:VEVENT
END:VCALENDAR
