BEGIN:VCALENDAR
VERSION:2.0
PRODID:-//Sabre//Sabre VObject 4.5.8//EN
CALSCALE:GREGORIAN
BEGIN:VEVENT
UID:sabre-vobject-b71099cd-db7a-4d3a-9187-c13fc40ab947
DTSTAMP:20260421T095150Z
SUMMARY:Radtour in die Fränkische Schweiz
DESCRIPTION:https://regioningolstadt.com/radtour-in-die-fraenkische-schweiz
 _id33913
DTSTART;TZID=Europe/Berlin:20240710T074500
DTEND;TZID=Europe/Berlin:20240710T190000
LOCATION:Hauptbahnhof Ingolstadt\, Bahnhofstraße 8\, 85051 Ingolstadt
END:VEVENT
END:VCALENDAR
