BEGIN:VCALENDAR
VERSION:2.0
PRODID:-//Sabre//Sabre VObject 4.5.8//EN
CALSCALE:GREGORIAN
BEGIN:VEVENT
UID:sabre-vobject-51d6555f-0823-48cc-b3d6-252e346e2252
DTSTAMP:20260424T055850Z
SUMMARY:Wissen macht Zukunft - Die Zukunft des Lernens (in der Arbeitswelt)
 : Ein Beispiel aus der Praxis
DESCRIPTION:https://regioningolstadt.com/wissen-macht-zukunft-die-zukunft-d
 es-lernens-in-der-arbeitswelt-ein-beispiel-aus-der-praxis_id33907
DTSTART;TZID=Europe/Berlin:20240725T120000
DTEND;TZID=Europe/Berlin:20240725T122500
LOCATION:Online-Veranstaltung\, \,  
END:VEVENT
END:VCALENDAR
