BEGIN:VCALENDAR
VERSION:2.0
PRODID:-//Sabre//Sabre VObject 4.5.8//EN
CALSCALE:GREGORIAN
BEGIN:VEVENT
UID:sabre-vobject-b6053f44-83c9-4244-bd15-e8e3c83aa8bc
DTSTAMP:20260419T182906Z
SUMMARY:Workshop: KI-Anwendungen im Personalwesen – Hype oder Hilfe?
DESCRIPTION:https://regioningolstadt.com/workshop-ki-anwendungen-im-persona
 lwesen-hype-oder-hilfe_id33906
DTSTART;TZID=Europe/Berlin:20240718T130000
DTEND;TZID=Europe/Berlin:20240718T160000
LOCATION:Online-Veranstaltung\, \,  
END:VEVENT
END:VCALENDAR
