BEGIN:VCALENDAR
VERSION:2.0
PRODID:-//Sabre//Sabre VObject 4.5.8//EN
CALSCALE:GREGORIAN
BEGIN:VEVENT
UID:sabre-vobject-66599543-fddc-4196-a57c-a9f6970af449
DTSTAMP:20260422T111116Z
SUMMARY:Radtour - Burgen und Schlösser
DESCRIPTION:https://regioningolstadt.com/radtour-burgen-und-schloesser_id33
 905
DTSTART;TZID=Europe/Berlin:20240707T090000
DTEND;TZID=Europe/Berlin:20240707T180000
LOCATION:RADHAUS Ingolstadt\, Bei der Arena 7\, 85053 Ingolstadt
END:VEVENT
END:VCALENDAR
