BEGIN:VCALENDAR
VERSION:2.0
PRODID:-//Sabre//Sabre VObject 4.5.8//EN
CALSCALE:GREGORIAN
BEGIN:VEVENT
UID:sabre-vobject-cd584f8d-029d-4504-99ca-4821ec93f5ca
DTSTAMP:20260422T073736Z
SUMMARY:Vorlesen für Kinder in italienischer Sprache
DESCRIPTION:https://regioningolstadt.com/vorlesen-fuer-kinder-in-italienisc
 her-sprache_id33897
DTSTART;TZID=Europe/Berlin:20250115T163000
DTEND;TZID=Europe/Berlin:20250115T173000
LOCATION:Stadtbücherei im Herzogskasten\, Hallstraße 2 - 4\, 85049 Ingols
 tadt
END:VEVENT
END:VCALENDAR
