BEGIN:VCALENDAR
VERSION:2.0
PRODID:-//Sabre//Sabre VObject 4.5.8//EN
CALSCALE:GREGORIAN
BEGIN:VEVENT
UID:sabre-vobject-f37b8417-f43b-4b96-938b-6bfa233c3339
DTSTAMP:20260422T235428Z
SUMMARY:Vorlesen für Kinder in ungarischer Sprache
DESCRIPTION:https://regioningolstadt.com/vorlesen-fuer-kinder-in-ungarische
 r-sprache_id33896
DTSTART;TZID=Europe/Berlin:20250113T163000
DTEND;TZID=Europe/Berlin:20250113T173000
LOCATION:Stadtbücherei im Herzogskasten\, Hallstraße 2 - 4\, 85049 Ingols
 tadt
END:VEVENT
END:VCALENDAR
