BEGIN:VCALENDAR
VERSION:2.0
PRODID:-//Sabre//Sabre VObject 4.5.8//EN
CALSCALE:GREGORIAN
BEGIN:VEVENT
UID:sabre-vobject-9ce39735-9fef-4468-b0a1-5fd9966f862d
DTSTAMP:20260423T222228Z
SUMMARY:Vorlesen für Kinder in türkischer Sprache
DESCRIPTION:https://regioningolstadt.com/vorlesen-fuer-kinder-in-tuerkische
 r-sprache_id33895
DTSTART;TZID=Europe/Berlin:20241220T170000
DTEND;TZID=Europe/Berlin:20241220T174500
LOCATION:Stadtbücherei im Herzogskasten\, Hallstraße 2 - 4\, 85049 Ingols
 tadt
END:VEVENT
END:VCALENDAR
