BEGIN:VCALENDAR
VERSION:2.0
PRODID:-//Sabre//Sabre VObject 4.5.8//EN
CALSCALE:GREGORIAN
BEGIN:VEVENT
UID:sabre-vobject-2d069778-e881-4f85-a82b-7b3effd0924e
DTSTAMP:20260422T002015Z
SUMMARY:Vorlesen für Kinder in italienischer Sprache
DESCRIPTION:https://regioningolstadt.com/vorlesen-fuer-kinder-in-italienisc
 her-sprache_id33889
DTSTART;TZID=Europe/Berlin:20241106T163000
DTEND;TZID=Europe/Berlin:20241106T173000
LOCATION:Stadtbücherei im Herzogskasten\, Hallstraße 2 - 4\, 85049 Ingols
 tadt
END:VEVENT
END:VCALENDAR
