BEGIN:VCALENDAR
VERSION:2.0
PRODID:-//Sabre//Sabre VObject 4.5.8//EN
CALSCALE:GREGORIAN
BEGIN:VEVENT
UID:sabre-vobject-a47ba8fe-1ffa-476f-bc8f-4df994f20e03
DTSTAMP:20260423T163325Z
SUMMARY:Vorlesen für Kinder in rumänischer Sprache
DESCRIPTION:https://regioningolstadt.com/vorlesen-fuer-kinder-in-rumaenisch
 er-sprache_id33882
DTSTART;TZID=Europe/Berlin:20250110T163000
DTEND;TZID=Europe/Berlin:20250110T173000
LOCATION:Stadtbücherei im Herzogskasten\, Hallstraße 2 - 4\, 85049 Ingols
 tadt
END:VEVENT
END:VCALENDAR
