BEGIN:VCALENDAR
VERSION:2.0
PRODID:-//Sabre//Sabre VObject 4.5.8//EN
CALSCALE:GREGORIAN
BEGIN:VEVENT
UID:sabre-vobject-10966376-6805-4432-809d-53a2836187c1
DTSTAMP:20260422T071156Z
SUMMARY:Vorlesen für Kinder in rumänischer Sprache
DESCRIPTION:https://regioningolstadt.com/vorlesen-fuer-kinder-in-rumaenisch
 er-sprache_id33881
DTSTART;TZID=Europe/Berlin:20241213T163000
DTEND;TZID=Europe/Berlin:20241213T173000
LOCATION:Stadtbücherei im Herzogskasten\, Hallstraße 2 - 4\, 85049 Ingols
 tadt
END:VEVENT
END:VCALENDAR
