BEGIN:VCALENDAR
VERSION:2.0
PRODID:-//Sabre//Sabre VObject 4.5.8//EN
CALSCALE:GREGORIAN
BEGIN:VEVENT
UID:sabre-vobject-13c8f84b-833c-4ccb-9921-6d6a0db858ba
DTSTAMP:20260419T230746Z
SUMMARY:Kulinarische Kräuter-VER-führung
DESCRIPTION:https://regioningolstadt.com/kulinarische-kraeuter-ver-fuehrung
 _id33878
DTSTART;TZID=Europe/Berlin:20240718T180000
DTEND;TZID=Europe/Berlin:20240718T210000
LOCATION:Sportgaststätte Bergheim\, Fährenweg 55\, 86673 Bergheim
END:VEVENT
END:VCALENDAR
