BEGIN:VCALENDAR
VERSION:2.0
PRODID:-//Sabre//Sabre VObject 4.5.8//EN
CALSCALE:GREGORIAN
BEGIN:VEVENT
UID:sabre-vobject-660bf37d-9967-4f46-917b-5e5a5e6a6972
DTSTAMP:20260422T094505Z
SUMMARY:Radtour - Der Limes in Bayern
DESCRIPTION:https://regioningolstadt.com/radtour-der-limes-in-bayern_id3387
 7
DTSTART;TZID=Europe/Berlin:20240707T090000
DTEND;TZID=Europe/Berlin:20240707T190000
LOCATION:Hauptbahnhof Ingolstadt\, Bahnhofstraße 8\, 85051 Ingolstadt
END:VEVENT
END:VCALENDAR
