BEGIN:VCALENDAR
VERSION:2.0
PRODID:-//Sabre//Sabre VObject 4.5.8//EN
CALSCALE:GREGORIAN
BEGIN:VEVENT
UID:sabre-vobject-519e05f0-3a0e-4a54-a2ae-49678d001dc4
DTSTAMP:20260422T234025Z
SUMMARY:Band-Abend
DESCRIPTION:https://regioningolstadt.com/band-abend_id33876
DTSTART;TZID=Europe/Berlin:20240705T190000
DURATION:PT30M
LOCATION:Bauerngerätemuseum\, Probststraße 13\, 85049 Ingolstadt
END:VEVENT
END:VCALENDAR
