BEGIN:VCALENDAR
VERSION:2.0
PRODID:-//Sabre//Sabre VObject 4.5.8//EN
CALSCALE:GREGORIAN
BEGIN:VEVENT
UID:sabre-vobject-51d73676-6cb1-4d2a-ad1b-08a07fb303b9
DTSTAMP:20260423T041757Z
SUMMARY:Konzert des Fachbereichs Blasinstrumente
DESCRIPTION:https://regioningolstadt.com/konzert-des-fachbereichs-blasinstr
 umente_id33875
DTSTART;TZID=Europe/Berlin:20240705T170000
DURATION:PT30M
LOCATION:Barocksaal im Stadtmuseum Ingolstadt\, Auf der Schanz 45\, 85049 I
 ngolstadt
END:VEVENT
END:VCALENDAR
