BEGIN:VCALENDAR
VERSION:2.0
PRODID:-//Sabre//Sabre VObject 4.5.8//EN
CALSCALE:GREGORIAN
BEGIN:VEVENT
UID:sabre-vobject-2c06126e-0d0e-4021-a44c-931767933180
DTSTAMP:20260423T100856Z
SUMMARY:Sommerfest des ADFC Ingolstadt
DESCRIPTION:https://regioningolstadt.com/sommerfest-des-adfc-ingolstadt_id3
 3874
DTSTART;TZID=Europe/Berlin:20240704T190000
DTEND;TZID=Europe/Berlin:20240704T230000
LOCATION:Wasserrose e.V.\, Rechbergstraße 2\, 85049 Ingolstadt
END:VEVENT
END:VCALENDAR
