BEGIN:VCALENDAR
VERSION:2.0
PRODID:-//Sabre//Sabre VObject 4.5.8//EN
CALSCALE:GREGORIAN
BEGIN:VEVENT
UID:sabre-vobject-cf379b3a-29f3-44a4-9be5-376b0b334f23
DTSTAMP:20260423T113336Z
SUMMARY:Workshop für die App Komoot
DESCRIPTION:https://regioningolstadt.com/workshop-fuer-die-app-komoot_id338
 73
DTSTART;TZID=Europe/Berlin:20240704T180000
DTEND;TZID=Europe/Berlin:20240704T190000
LOCATION:Wasserrose e.V.\, Rechbergstraße 2\, 85049 Ingolstadt
END:VEVENT
END:VCALENDAR
