BEGIN:VCALENDAR
VERSION:2.0
PRODID:-//Sabre//Sabre VObject 4.5.8//EN
CALSCALE:GREGORIAN
BEGIN:VEVENT
UID:sabre-vobject-6ad5710c-730a-47e4-9e76-1e1bfdeed16a
DTSTAMP:20260423T175149Z
SUMMARY:Radtour auf den Spuren der Wittelsbacher
DESCRIPTION:https://regioningolstadt.com/radtour-auf-den-spuren-der-wittels
 bacher_id33871
DTSTART;TZID=Europe/Berlin:20240703T090000
DTEND;TZID=Europe/Berlin:20240703T180000
LOCATION:Hauptbahnhof Ingolstadt\, Bahnhofstraße 8\, 85051 Ingolstadt
END:VEVENT
END:VCALENDAR
