BEGIN:VCALENDAR
VERSION:2.0
PRODID:-//Sabre//Sabre VObject 4.5.8//EN
CALSCALE:GREGORIAN
BEGIN:VEVENT
UID:sabre-vobject-4c2759ac-079a-4574-99c2-3c0fbe8b3e94
DTSTAMP:20260424T190258Z
SUMMARY:Peruanischer Unabhängigkeitstag Feier
DESCRIPTION:https://regioningolstadt.com/peruanischer-unabhaengigkeitstag-f
 eier_id33828
DTSTART;TZID=Europe/Berlin:20240727T120000
DTEND;TZID=Europe/Berlin:20240727T220000
LOCATION:Bürgerhaus Neuburger Kasten\, Fechtgasse 6\, 85049 Ingolstadt
END:VEVENT
END:VCALENDAR
